BEGIN:VCALENDAR
VERSION:2.0
PRODID:-//Creative Childcare Theme - ECPv5.14.1//NONSGML v1.0//EN
CALSCALE:GREGORIAN
METHOD:PUBLISH
X-WR-CALNAME:Creative Childcare Theme
X-ORIGINAL-URL:https://daycarewebsitedesign.net/creative
X-WR-CALDESC:Events for Creative Childcare Theme
BEGIN:VTIMEZONE
TZID:America/Denver
BEGIN:DAYLIGHT
TZOFFSETFROM:-0700
TZOFFSETTO:-0600
TZNAME:MDT
DTSTART:20180311T090000
END:DAYLIGHT
BEGIN:STANDARD
TZOFFSETFROM:-0600
TZOFFSETTO:-0700
TZNAME:MST
DTSTART:20181104T080000
END:STANDARD
END:VTIMEZONE
BEGIN:VEVENT
DTSTART;VALUE=DATE:20180215
DTEND;VALUE=DATE:20180217
DTSTAMP:20260423T120843
CREATED:20170606T035743Z
LAST-MODIFIED:20201119T160712Z
UID:3844-1518652800-1518825599@daycarewebsitedesign.net
SUMMARY:CLOSED - Teacher Training
DESCRIPTION:We will be closed these days for important teacher training and to plan our Spring curriculum.  We are sorry for any inconvenience.
URL:https://daycarewebsitedesign.net/creative/event/closed-teacher-training/
CATEGORIES:School Calendar
END:VEVENT
END:VCALENDAR