BEGIN:VCALENDAR
VERSION:2.0
PRODID:-//Creative Childcare Theme - ECPv5.14.1//NONSGML v1.0//EN
CALSCALE:GREGORIAN
METHOD:PUBLISH
X-WR-CALNAME:Creative Childcare Theme
X-ORIGINAL-URL:https://daycarewebsitedesign.net/creative
X-WR-CALDESC:Events for Creative Childcare Theme
BEGIN:VTIMEZONE
TZID:America/Denver
BEGIN:DAYLIGHT
TZOFFSETFROM:-0700
TZOFFSETTO:-0600
TZNAME:MDT
DTSTART:20150308T090000
END:DAYLIGHT
BEGIN:STANDARD
TZOFFSETFROM:-0600
TZOFFSETTO:-0700
TZNAME:MST
DTSTART:20151101T080000
END:STANDARD
END:VTIMEZONE
BEGIN:VEVENT
DTSTART;VALUE=DATE:20150818
DTEND;VALUE=DATE:20150819
DTSTAMP:20260425T080532
CREATED:20150706T143247Z
LAST-MODIFIED:20150706T143247Z
UID:1447-1439856000-1439942399@daycarewebsitedesign.net
SUMMARY:Daycamp: Make a Volcano
DESCRIPTION:
URL:https://daycarewebsitedesign.net/creative/event/daycamp-make-a-volcano/
CATEGORIES:DayCamp
END:VEVENT
END:VCALENDAR