BEGIN:VCALENDAR
VERSION:2.0
PRODID:-//Creative Childcare Theme - ECPv5.14.1//NONSGML v1.0//EN
CALSCALE:GREGORIAN
METHOD:PUBLISH
X-WR-CALNAME:Creative Childcare Theme
X-ORIGINAL-URL:https://daycarewebsitedesign.net/creative
X-WR-CALDESC:Events for Creative Childcare Theme
BEGIN:VTIMEZONE
TZID:America/Denver
BEGIN:DAYLIGHT
TZOFFSETFROM:-0700
TZOFFSETTO:-0600
TZNAME:MDT
DTSTART:20170312T090000
END:DAYLIGHT
BEGIN:STANDARD
TZOFFSETFROM:-0600
TZOFFSETTO:-0700
TZNAME:MST
DTSTART:20171105T080000
END:STANDARD
END:VTIMEZONE
BEGIN:VEVENT
DTSTART;TZID=America/Denver:20170616T153000
DTEND;TZID=America/Denver:20170616T163000
DTSTAMP:20260424T003457
CREATED:20170606T041011Z
LAST-MODIFIED:20200319T065951Z
UID:3868-1497627000-1497630600@daycarewebsitedesign.net
SUMMARY:Doughnuts with Daddy
DESCRIPTION:We LOVE our Daddys! \nTo celebrate refreshments will be provided by Steele School.\n\nWe hope to see you there!
URL:https://daycarewebsitedesign.net/creative/event/doughnuts-with-daddy/
CATEGORIES:School Calendar
END:VEVENT
END:VCALENDAR