BEGIN:VCALENDAR
VERSION:2.0
PRODID:-//Creative Childcare Theme - ECPv5.14.1//NONSGML v1.0//EN
CALSCALE:GREGORIAN
METHOD:PUBLISH
X-WR-CALNAME:Creative Childcare Theme
X-ORIGINAL-URL:https://daycarewebsitedesign.net/creative
X-WR-CALDESC:Events for Creative Childcare Theme
BEGIN:VTIMEZONE
TZID:America/Denver
BEGIN:DAYLIGHT
TZOFFSETFROM:-0700
TZOFFSETTO:-0600
TZNAME:MDT
DTSTART:20160313T090000
END:DAYLIGHT
BEGIN:STANDARD
TZOFFSETFROM:-0600
TZOFFSETTO:-0700
TZNAME:MST
DTSTART:20161106T080000
END:STANDARD
END:VTIMEZONE
BEGIN:VEVENT
DTSTART;VALUE=DATE:20160622
DTEND;VALUE=DATE:20160623
DTSTAMP:20260424T193552
CREATED:20160607T030549Z
LAST-MODIFIED:20160607T030549Z
UID:2254-1466553600-1466639999@daycarewebsitedesign.net
SUMMARY:Daycamp:  Show and Tell / Free Play
DESCRIPTION:
URL:https://daycarewebsitedesign.net/creative/event/daycamp-show-and-tell-free-play/
CATEGORIES:DayCamp
END:VEVENT
END:VCALENDAR