BEGIN:VCALENDAR
VERSION:2.0
PRODID:-//Creative Childcare Theme - ECPv5.14.1//NONSGML v1.0//EN
CALSCALE:GREGORIAN
METHOD:PUBLISH
X-WR-CALNAME:Creative Childcare Theme
X-ORIGINAL-URL:https://daycarewebsitedesign.net/creative
X-WR-CALDESC:Events for Creative Childcare Theme
BEGIN:VTIMEZONE
TZID:America/Denver
BEGIN:DAYLIGHT
TZOFFSETFROM:-0700
TZOFFSETTO:-0600
TZNAME:MDT
DTSTART:20150308T090000
END:DAYLIGHT
BEGIN:STANDARD
TZOFFSETFROM:-0600
TZOFFSETTO:-0700
TZNAME:MST
DTSTART:20151101T080000
END:STANDARD
END:VTIMEZONE
BEGIN:VEVENT
DTSTART;TZID=America/Denver:20150715T100000
DTEND;TZID=America/Denver:20150715T120000
DTSTAMP:20260425T092236
CREATED:20150626T030355Z
LAST-MODIFIED:20150626T030355Z
UID:1392-1436954400-1436961600@daycarewebsitedesign.net
SUMMARY:Daycamp:  Big Time Fun
DESCRIPTION:
URL:https://daycarewebsitedesign.net/creative/event/daycamp-big-time-fun/
CATEGORIES:DayCamp
END:VEVENT
END:VCALENDAR